BEGIN:VCALENDAR
VERSION:2.0
PRODID:-//The Oshawa Express - ECPv5.9.0//NONSGML v1.0//EN
CALSCALE:GREGORIAN
METHOD:PUBLISH
X-WR-CALNAME:The Oshawa Express
X-ORIGINAL-URL:https://oshawaexpress.ca
X-WR-CALDESC:Events for The Oshawa Express
BEGIN:VTIMEZONE
TZID:America/Toronto
BEGIN:DAYLIGHT
TZOFFSETFROM:-0500
TZOFFSETTO:-0400
TZNAME:EDT
DTSTART:20200308T070000
END:DAYLIGHT
BEGIN:STANDARD
TZOFFSETFROM:-0400
TZOFFSETTO:-0500
TZNAME:EST
DTSTART:20201101T060000
END:STANDARD
END:VTIMEZONE
BEGIN:VEVENT
DTSTART;TZID=America/Toronto:20200130T170000
DTEND;TZID=America/Toronto:20200130T190000
DTSTAMP:20260424T020550
CREATED:20200129T044245Z
LAST-MODIFIED:20200129T044245Z
UID:25647-1580403600-1580410800@oshawaexpress.ca
SUMMARY:Project Restore FIBI
DESCRIPTION:Project Restore FIBI – Learn from founder and executive director Aisha Francis about Project Restore FIBI (Families Impacted By Incarceration). Aisha will share about her organization’s commitment to being family-focused as an innovative approach to disrupt pervasive cycles of trauma and incarceration and how this approach guides the provision of holistic family services and restorative supports for every family member to grow\, heal and thrive. This event runs from 5 to 7 p.m. at the college\, 2000 Simcoe St. N. It is free to attend\, but to register visit https://bit.ly/2tjsmxr \n\n\n	Related
URL:https://oshawaexpress.ca/event/project-restore-fibi-2/
LOCATION:Durham College Oshawa North\, 2000 Simcoe Street North\, Oshawa\, Ontario\, Canada
END:VEVENT
END:VCALENDAR