BEGIN:VCALENDAR
VERSION:2.0
PRODID:-//The Oshawa Express - ECPv5.9.0//NONSGML v1.0//EN
CALSCALE:GREGORIAN
METHOD:PUBLISH
X-WR-CALNAME:The Oshawa Express
X-ORIGINAL-URL:https://oshawaexpress.ca
X-WR-CALDESC:Events for The Oshawa Express
BEGIN:VTIMEZONE
TZID:America/Toronto
BEGIN:DAYLIGHT
TZOFFSETFROM:-0500
TZOFFSETTO:-0400
TZNAME:EDT
DTSTART:20200308T070000
END:DAYLIGHT
BEGIN:STANDARD
TZOFFSETFROM:-0400
TZOFFSETTO:-0500
TZNAME:EST
DTSTART:20201101T060000
END:STANDARD
END:VTIMEZONE
BEGIN:VEVENT
DTSTART;TZID=America/Toronto:20200131T183000
DTEND;TZID=America/Toronto:20200131T200000
DTSTAMP:20260424T052337
CREATED:20200108T033141Z
LAST-MODIFIED:20200108T033141Z
UID:25215-1580495400-1580500800@oshawaexpress.ca
SUMMARY:Living with an Aging Parent Workshop
DESCRIPTION:Living with an Aging Parent – Life with an aging parent can be overwhelming\, for the senior\, their loved ones\, and their caregivers. As part of a support discussion group\, participants will discuss the available resources and community services\, including senior support services\, types of retirement living\, and supports for their loved ones and caregivers. It runs from 6:30 to 8 p.m. at the Delpark Homes Centre branch of the Oshawa Public Libraries\, 1661 Harmony Rd. N. and is free to attend. Event will also run on Feb. 7 and Feb. 14. \n\n\n	Related
URL:https://oshawaexpress.ca/event/living-with-an-aging-parent-workshop/
LOCATION:Delpark Homes Centre\, 1661 Harmony Road North\, Oshawa\, Ontario\, Canada
END:VEVENT
END:VCALENDAR