BEGIN:VCALENDAR
VERSION:2.0
PRODID:-//The Oshawa Express - ECPv5.9.0//NONSGML v1.0//EN
CALSCALE:GREGORIAN
METHOD:PUBLISH
X-WR-CALNAME:The Oshawa Express
X-ORIGINAL-URL:https://oshawaexpress.ca
X-WR-CALDESC:Events for The Oshawa Express
BEGIN:VTIMEZONE
TZID:America/Toronto
BEGIN:DAYLIGHT
TZOFFSETFROM:-0500
TZOFFSETTO:-0400
TZNAME:EDT
DTSTART:20200308T070000
END:DAYLIGHT
BEGIN:STANDARD
TZOFFSETFROM:-0400
TZOFFSETTO:-0500
TZNAME:EST
DTSTART:20201101T060000
END:STANDARD
END:VTIMEZONE
BEGIN:VEVENT
DTSTART;TZID=America/Toronto:20200128T170000
DTEND;TZID=America/Toronto:20200128T190000
DTSTAMP:20260424T022929
CREATED:20191218T153635Z
LAST-MODIFIED:20191218T153635Z
UID:25036-1580230800-1580238000@oshawaexpress.ca
SUMMARY:Justice for Soli
DESCRIPTION:Justice for Soli – In December 2016\, Soleiman Faqiri\, who suffered from schizophrenia\, died while incarcerated at an Ontario prison during an incident with correctional officers. No charges were laid against the guards involved and three years later\, his family is still looking for answers. Soleiman’s brother\, Yusuf Faqiri\, will speak about his brother’s life and death\, and the crisis of mental health in Canadian prisons. This event is part of Durham College’s first annual Social Justice Week. It runs from 5 to 7 p.m.\, and is at Durham College\, 2000 Simcoe St. N. It is free to attend\, but those interested must register at https://bit.ly/34koyZO \n\n\n	Related
URL:https://oshawaexpress.ca/event/justice-for-soli/
LOCATION:Durham College Oshawa North\, 2000 Simcoe Street North\, Oshawa\, Ontario\, Canada
END:VEVENT
END:VCALENDAR